BEGIN:VCALENDAR
VERSION:2.0
PRODID:-//The Little Chapel - ECPv6.15.14//NONSGML v1.0//EN
CALSCALE:GREGORIAN
METHOD:PUBLISH
X-ORIGINAL-URL:https://thelittlechapelaz.org
X-WR-CALDESC:Events for The Little Chapel
REFRESH-INTERVAL;VALUE=DURATION:PT1H
X-Robots-Tag:noindex
X-PUBLISHED-TTL:PT1H
BEGIN:VTIMEZONE
TZID:UTC
BEGIN:STANDARD
TZOFFSETFROM:+0000
TZOFFSETTO:+0000
TZNAME:UTC
DTSTART:20240101T000000
END:STANDARD
END:VTIMEZONE
BEGIN:VTIMEZONE
TZID:Asia/Krasnoyarsk
BEGIN:STANDARD
TZOFFSETFROM:+0700
TZOFFSETTO:+0700
TZNAME:+07
DTSTART:20240101T000000
END:STANDARD
END:VTIMEZONE
BEGIN:VEVENT
DTSTART;TZID=UTC:20260322T103000
DTEND;TZID=UTC:20260322T130000
DTSTAMP:20260419T124251
CREATED:20250915T171058Z
LAST-MODIFIED:20260110T055936Z
UID:4703-1774175400-1774184400@thelittlechapelaz.org
SUMMARY:Late March Service
DESCRIPTION:We kindly ask that you RSVP by phone or email at (480) 922-4870 or thelittlechapelaz@gmail.com. An RSVP helps us prepare for your arrival\, but please note that it does not reserve a seat. Seating is available on a first-come\, first-served basis\, so we encourage you to arrive early. RSVPs are noted upon receipt; a separate confirmation will not be sent. \nArrival & Service DetailsOn chapel days\, doors open at 9:00 a.m. We ask that you honor the sacred atmosphere by being mindful of those in prayer prior to the service and by remaining seated during the healing portion. \nEach service lasts approximately 2½ hours. For families attending\, children 12 and under are welcome in our extended chapel space only.
URL:https://thelittlechapelaz.org/event/late-march-service/
LOCATION:The Little Chapel AZ\, 6135 E. Palo Verde Lane\, Paradise Valley\, AZ\, 85253\, United States
ATTACH;FMTTYPE=image/png:https://thelittlechapelaz.org/wp-content/uploads/2025/09/TLC-Jesus-Statue-Image-.png
END:VEVENT
BEGIN:VEVENT
DTSTART;TZID=UTC:20260308T103000
DTEND;TZID=UTC:20260308T130000
DTSTAMP:20260419T124251
CREATED:20250915T171023Z
LAST-MODIFIED:20260110T060009Z
UID:4701-1772965800-1772974800@thelittlechapelaz.org
SUMMARY:Early March Service
DESCRIPTION:We kindly ask that you RSVP by phone or email at (480) 922-4870 or thelittlechapelaz@gmail.com. An RSVP helps us prepare for your arrival\, but please note that it does not reserve a seat. Seating is available on a first-come\, first-served basis\, so we encourage you to arrive early. RSVPs are noted upon receipt; a separate confirmation will not be sent. \nArrival & Service DetailsOn chapel days\, doors open at 9:00 a.m. We ask that you honor the sacred atmosphere by being mindful of those in prayer prior to the service and by remaining seated during the healing portion. \nEach service lasts approximately 2½ hours. For families attending\, children 12 and under are welcome in our extended chapel space only.
URL:https://thelittlechapelaz.org/event/early-march-service/
LOCATION:The Little Chapel AZ\, 6135 E. Palo Verde Lane\, Paradise Valley\, AZ\, 85253\, United States
ATTACH;FMTTYPE=image/png:https://thelittlechapelaz.org/wp-content/uploads/2025/09/TLC-Jesus-Statue-Image-.png
END:VEVENT
BEGIN:VEVENT
DTSTART;TZID=UTC:20260222T103000
DTEND;TZID=UTC:20260222T130000
DTSTAMP:20260419T124251
CREATED:20250915T170937Z
LAST-MODIFIED:20260110T060026Z
UID:4699-1771756200-1771765200@thelittlechapelaz.org
SUMMARY:February Service
DESCRIPTION:We kindly ask that you RSVP by phone or email at (480) 922-4870 or thelittlechapelaz@gmail.com. An RSVP helps us prepare for your arrival\, but please note that it does not reserve a seat. Seating is available on a first-come\, first-served basis\, so we encourage you to arrive early. RSVPs are noted upon receipt; a separate confirmation will not be sent. \nArrival & Service DetailsOn chapel days\, doors open at 9:00 a.m. We ask that you honor the sacred atmosphere by being mindful of those in prayer prior to the service and by remaining seated during the healing portion. \nEach service lasts approximately 2½ hours. For families attending\, children 12 and under are welcome in our extended chapel space only.
URL:https://thelittlechapelaz.org/event/february-service/
LOCATION:The Little Chapel AZ\, 6135 E. Palo Verde Lane\, Paradise Valley\, AZ\, 85253\, United States
ATTACH;FMTTYPE=image/png:https://thelittlechapelaz.org/wp-content/uploads/2025/09/TLC-Jesus-Statue-Image-.png
END:VEVENT
BEGIN:VEVENT
DTSTART;TZID=UTC:20260118T103000
DTEND;TZID=UTC:20260118T130000
DTSTAMP:20260419T124251
CREATED:20250915T170903Z
LAST-MODIFIED:20260110T060053Z
UID:4697-1768732200-1768741200@thelittlechapelaz.org
SUMMARY:January Service
DESCRIPTION:We kindly ask that you RSVP by phone or email at (480) 922-4870 or thelittlechapelaz@gmail.com. An RSVP helps us prepare for your arrival\, but please note that it does not reserve a seat. Seating is available on a first-come\, first-served basis\, so we encourage you to arrive early. RSVPs are noted upon receipt; a separate confirmation will not be sent. \nArrival & Service DetailsOn chapel days\, doors open at 9:00 a.m. We ask that you honor the sacred atmosphere by being mindful of those in prayer prior to the service and by remaining seated during the healing portion. \nEach service lasts approximately 2½ hours. For families attending\, children 12 and under are welcome in our extended chapel space only.
URL:https://thelittlechapelaz.org/event/january-service/
LOCATION:The Little Chapel AZ\, 6135 E. Palo Verde Lane\, Paradise Valley\, AZ\, 85253\, United States
ATTACH;FMTTYPE=image/png:https://thelittlechapelaz.org/wp-content/uploads/2025/09/TLC-Jesus-Statue-Image-.png
END:VEVENT
BEGIN:VEVENT
DTSTART;TZID=UTC:20251212T183000
DTEND;TZID=UTC:20251212T203000
DTSTAMP:20260419T124251
CREATED:20250915T170758Z
LAST-MODIFIED:20250919T150647Z
UID:4695-1765564200-1765571400@thelittlechapelaz.org
SUMMARY:Christmas Service
DESCRIPTION:
URL:https://thelittlechapelaz.org/event/christmas-service/
LOCATION:The Franciscan Renewal Center\, 5802 E Lincoln Dr.\, Scottsdale\, AZ\, 85253\, United States
ATTACH;FMTTYPE=image/png:https://thelittlechapelaz.org/wp-content/uploads/2025/09/TLC-Jesus-Statue-Image-.png
END:VEVENT
BEGIN:VEVENT
DTSTART;TZID=UTC:20251109T103000
DTEND;TZID=UTC:20251109T120000
DTSTAMP:20260419T124251
CREATED:20250915T170255Z
LAST-MODIFIED:20250919T150419Z
UID:4693-1762684200-1762689600@thelittlechapelaz.org
SUMMARY:November Service
DESCRIPTION:If you plan to join us in person\, we kindly ask that you RSVP by phone or email at (480) 922-4870 or thelittlechapelaz@gmail.com. Please note that an RSVP lets us know you’re coming\, but it does not reserve a seat. Seating is first come\, first served\, so we encourage you to arrive early. (Your RSVP will be noted once received; a separate confirmation will not be sent.) \nOn chapel days\, the doors open at 9:00 a.m. We ask that you honor the sacred atmosphere by respecting those in prayer before the service and by remaining seated during the healing portion of the service. \nPlease keep in mind that each service lasts about 2 ½ hours. For families\, children 12 and under are welcome in our extended chapel space only.
URL:https://thelittlechapelaz.org/event/november-service/
LOCATION:The Little Chapel AZ\, 6135 E. Palo Verde Lane\, Paradise Valley\, AZ\, 85253\, United States
ATTACH;FMTTYPE=image/png:https://thelittlechapelaz.org/wp-content/uploads/2025/09/TLC-Jesus-Statue-Image-.png
END:VEVENT
BEGIN:VEVENT
DTSTART;TZID=UTC:20251019T103000
DTEND;TZID=UTC:20251019T120000
DTSTAMP:20260419T124251
CREATED:20250915T170209Z
LAST-MODIFIED:20250919T150407Z
UID:4691-1760869800-1760875200@thelittlechapelaz.org
SUMMARY:October Service
DESCRIPTION:If you plan to join us in person\, we kindly ask that you RSVP by phone or email at (480) 922-4870 or thelittlechapelaz@gmail.com. Please note that an RSVP lets us know you’re coming\, but it does not reserve a seat. Seating is first come\, first served\, so we encourage you to arrive early. (Your RSVP will be noted once received; a separate confirmation will not be sent.) \nOn chapel days\, the doors open at 9:00 a.m. We ask that you honor the sacred atmosphere by respecting those in prayer before the service and by remaining seated during the healing portion of the service. \nPlease keep in mind that each service lasts about 2 ½ hours. For families\, children 12 and under are welcome in our extended chapel space only.
URL:https://thelittlechapelaz.org/event/october-service/
LOCATION:The Little Chapel AZ\, 6135 E. Palo Verde Lane\, Paradise Valley\, AZ\, 85253\, United States
ATTACH;FMTTYPE=image/png:https://thelittlechapelaz.org/wp-content/uploads/2025/09/TLC-Jesus-Statue-Image-.png
END:VEVENT
BEGIN:VEVENT
DTSTART;TZID=Asia/Krasnoyarsk:20250921T103000
DTEND;TZID=Asia/Krasnoyarsk:20250921T120000
DTSTAMP:20260419T124251
CREATED:20250901T035909Z
LAST-MODIFIED:20250916T175014Z
UID:4592-1758450600-1758456000@thelittlechapelaz.org
SUMMARY:September Service
DESCRIPTION:If you plan to join us in person\, we kindly ask that you RSVP by phone or email at (480) 922-4870 or thelittlechapelaz@gmail.com. Please note that an RSVP lets us know you’re coming\, but it does not reserve a seat. Seating is first come\, first served\, so we encourage you to arrive early. (Your RSVP will be noted once received; a separate confirmation will not be sent.) \nOn chapel days\, the doors open at 9:00 a.m. We ask that you honor the sacred atmosphere by respecting those in prayer before the service and by remaining seated during the healing portion of the service. \nPlease keep in mind that each service lasts about 2 ½ hours. For families\, children 12 and under are welcome in our extended chapel space only.
URL:https://thelittlechapelaz.org/event/september-service/
LOCATION:The Little Chapel AZ\, 6135 E. Palo Verde Lane\, Paradise Valley\, AZ\, 85253\, United States
ATTACH;FMTTYPE=image/png:https://thelittlechapelaz.org/wp-content/uploads/2025/09/TLC-Jesus-Statue-Image-.png
END:VEVENT
END:VCALENDAR